BEGIN:VCALENDAR
VERSION:2.0
PRODID:icalendar-ruby
CALSCALE:GREGORIAN
METHOD:PUBLISH
BEGIN:VEVENT
DTSTAMP:20260419T195618Z
UID:33-331441@cochranealliance.com
DTSTART:20260419T150000Z
DTEND:20260419T160000Z
CLASS:PUBLIC
CREATED:20260326T103208
DESCRIPTION:Sunday worship gatherings are one of the ways we strive develop
  a lifestyle of glorifying God every day of our lives. Everything about ou
 r Sunday gatherings is intended to bring praise to Jesus and to inspire a 
 deeper relationship with God: knowing Him\, walking with Him\, and living 
 out His purpose for our lives.\nIf you’re new here\, we welcome you to j
 oin us in person or check us out online\, wherever you feel most comfortab
 le. Scroll down to find out more about what to expect.\nIN-PERSON\nJoin ou
 r Sunday Worship Gatherings at 9:00am and 11:00am. Find out more about our
  Sunday Afternoon Service at 4:30pm here.\nJAM KIDS classrooms are open f
 or birth to Grade 5. \n\nONLINE\nOur Livestream begins Sundays at 9:00am 
 (MT). You can watch the livestream on YouTube or Facebook. If you miss the
  livestream\, it's available to watch anytime. \n\n \n\n \n\n \n
LAST-MODIFIED:20260326T103208
LOCATION:
SUMMARY:Worship Gathering
URL;VALUE=URI:https://www.cochranealliance.com/events/worship-gathering/202
 6-04-19
ATTACH;FILENAME=Worship_Spring.jpg;FMTTYPE=image/jpeg:https://dq5pwpg1q8ru0
 .cloudfront.net/2026/03/26/16/32/07/6b04186e-9cf0-4635-8acb-de45959bc501/W
 orship_Spring.jpg
END:VEVENT
END:VCALENDAR
