BEGIN:VCALENDAR
VERSION:2.0
PRODID:icalendar-ruby
CALSCALE:GREGORIAN
METHOD:PUBLISH
BEGIN:VEVENT
DTSTAMP:20260423T135053Z
UID:451-331719@cochranealliance.com
DTSTART:20260502T004500Z
DTEND:20260502T023000Z
CLASS:PUBLIC
CREATED:20260422T094618
DESCRIPTION:The Women’s Ministries Hub Team invites you to join us for an
  evening of Prayer\, Worship and Connection! Hosted in collaboration with 
 our Away From the Crowd Prayer Ministries Team.\nFriday May 1st\n6:45 - 8:
 30\nAt Cochrane Alliance Church\nPlease bring a Sweet or Savory Snack to s
 hare after our Prayer time.\n\nAny questions or inquiries please contact L
 oretta Arkell\nwomenshub@cochranealliance.com\n\n*If you are able\, we wou
 ld like to invite you to fast with us throughout the day on Friday. We wil
 l break that fast together after our time of prayer.
LAST-MODIFIED:20260422T094618
LOCATION:
SUMMARY:Women's Ministry Event
URL;VALUE=URI:https://www.cochranealliance.com/events/womens-ministry-event
 /2026-05-01
ATTACH;FILENAME=Womens_Min_logo.jpg;FMTTYPE=image/jpeg:https://dq5pwpg1q8ru
 0.cloudfront.net/2026/04/22/15/38/35/33c93bc1-d8c0-4491-9cac-9b5bee729f64/
 Womens_Min_logo.jpg
END:VEVENT
END:VCALENDAR
